Workbook

Sheet Start here
A1: Spreadsheet Weekly — Issue #1: Why XLOOKUP says #N/A
A2: Works in: Microsoft 365 or Excel 2021+ (notes for older versions inside). No macros.
A4: 1. Go to the Payments sheet. Column B uses a normal XLOOKUP and shows #N/A for 6 of 10 rows.
A5: 2. Columns C–E diagnose each ID: ISTEXT (stored as text?), LEN (extra characters?), UNICODE(RIGHT()) (32 = space, 160 = non-breaking space).
A6: 3. Column F is the fixed formula from the issue. All 10 rows match. Compare with column G (expected).
A7: 4. Try it yourself: in column H, write the fix from memory for rows 2–11.
A8: Older Excel (2016/2019): XLOOKUP is not available. Use the INDEX/MATCH version from the issue and confirm with Ctrl+Shift+Enter.
A11: Free for personal and internal business use. Sample data is fictional.

Sheet Invoices
A1: Invoice ID | B1: Customer | C1: Amount
A2: 10480 | B2: Northwind | C2: 1240
A3: 10481 | B3: Contoso | C3: 860.5
A4: 10482 | B4: Fabrikam | C4: 3120.75
A5: 10483 | B5: Tailspin | C5: 410
A6: 10484 | B6: Litware | C6: 2290.1
A7: 10485 | B7: Adatum | C7: 975.25
A8: 10486 | B8: Proseware | C8: 1580
A9: 10487 | B9: Wingtip | C9: 640.4
A10: 10488 | B10: Coho | C10: 2045.9
A11: 10489 | B11: Alpine | C11: 1333.33

Sheet Payments
A1: Payment ref (as exported) | B1: Naive XLOOKUP | C1: ISTEXT | D1: LEN | E1: UNICODE(RIGHT) | F1: Fixed formula | G1: Expected | H1: Your turn
A2: 10480 | B2: =_xlfn.XLOOKUP(A2,Invoices!$A$2:$A$11,Invoices!$C$2:$C$11) | C2: =ISTEXT(A2) | D2: =LEN(A2) | E2: =_xlfn.UNICODE(RIGHT(A2)) | F2: {=_xlfn.XLOOKUP(TRIM(SUBSTITUTE(A2,_xlfn.UNICHAR(160)," ")),TRIM(SUBSTITUTE(Invoices!$A$2:$A$11,_xlfn.UNICHAR(160)," ")),Invoices!$C$2:$C$11,"Not found")} | G2: 1240
A3: 10481 | B3: =_xlfn.XLOOKUP(A3,Invoices!$A$2:$A$11,Invoices!$C$2:$C$11) | C3: =ISTEXT(A3) | D3: =LEN(A3) | E3: =_xlfn.UNICODE(RIGHT(A3)) | F3: {=_xlfn.XLOOKUP(TRIM(SUBSTITUTE(A3,_xlfn.UNICHAR(160)," ")),TRIM(SUBSTITUTE(Invoices!$A$2:$A$11,_xlfn.UNICHAR(160)," ")),Invoices!$C$2:$C$11,"Not found")} | G3: 860.5
A4: 10482 | B4: =_xlfn.XLOOKUP(A4,Invoices!$A$2:$A$11,Invoices!$C$2:$C$11) | C4: =ISTEXT(A4) | D4: =LEN(A4) | E4: =_xlfn.UNICODE(RIGHT(A4)) | F4: {=_xlfn.XLOOKUP(TRIM(SUBSTITUTE(A4,_xlfn.UNICHAR(160)," ")),TRIM(SUBSTITUTE(Invoices!$A$2:$A$11,_xlfn.UNICHAR(160)," ")),Invoices!$C$2:$C$11,"Not found")} | G4: 3120.75
A5: 10483 | B5: =_xlfn.XLOOKUP(A5,Invoices!$A$2:$A$11,Invoices!$C$2:$C$11) | C5: =ISTEXT(A5) | D5: =LEN(A5) | E5: =_xlfn.UNICODE(RIGHT(A5)) | F5: {=_xlfn.XLOOKUP(TRIM(SUBSTITUTE(A5,_xlfn.UNICHAR(160)," ")),TRIM(SUBSTITUTE(Invoices!$A$2:$A$11,_xlfn.UNICHAR(160)," ")),Invoices!$C$2:$C$11,"Not found")} | G5: 410
A6: 10484 | B6: =_xlfn.XLOOKUP(A6,Invoices!$A$2:$A$11,Invoices!$C$2:$C$11) | C6: =ISTEXT(A6) | D6: =LEN(A6) | E6: =_xlfn.UNICODE(RIGHT(A6)) | F6: {=_xlfn.XLOOKUP(TRIM(SUBSTITUTE(A6,_xlfn.UNICHAR(160)," ")),TRIM(SUBSTITUTE(Invoices!$A$2:$A$11,_xlfn.UNICHAR(160)," ")),Invoices!$C$2:$C$11,"Not found")} | G6: 2290.1
A7: 10485 | B7: =_xlfn.XLOOKUP(A7,Invoices!$A$2:$A$11,Invoices!$C$2:$C$11) | C7: =ISTEXT(A7) | D7: =LEN(A7) | E7: =_xlfn.UNICODE(RIGHT(A7)) | F7: {=_xlfn.XLOOKUP(TRIM(SUBSTITUTE(A7,_xlfn.UNICHAR(160)," ")),TRIM(SUBSTITUTE(Invoices!$A$2:$A$11,_xlfn.UNICHAR(160)," ")),Invoices!$C$2:$C$11,"Not found")} | G7: 975.25
A8: 10486 | B8: =_xlfn.XLOOKUP(A8,Invoices!$A$2:$A$11,Invoices!$C$2:$C$11) | C8: =ISTEXT(A8) | D8: =LEN(A8) | E8: =_xlfn.UNICODE(RIGHT(A8)) | F8: {=_xlfn.XLOOKUP(TRIM(SUBSTITUTE(A8,_xlfn.UNICHAR(160)," ")),TRIM(SUBSTITUTE(Invoices!$A$2:$A$11,_xlfn.UNICHAR(160)," ")),Invoices!$C$2:$C$11,"Not found")} | G8: 1580
A9: 10487 | B9: =_xlfn.XLOOKUP(A9,Invoices!$A$2:$A$11,Invoices!$C$2:$C$11) | C9: =ISTEXT(A9) | D9: =LEN(A9) | E9: =_xlfn.UNICODE(RIGHT(A9)) | F9: {=_xlfn.XLOOKUP(TRIM(SUBSTITUTE(A9,_xlfn.UNICHAR(160)," ")),TRIM(SUBSTITUTE(Invoices!$A$2:$A$11,_xlfn.UNICHAR(160)," ")),Invoices!$C$2:$C$11,"Not found")} | G9: 640.4
A10: 10488 | B10: =_xlfn.XLOOKUP(A10,Invoices!$A$2:$A$11,Invoices!$C$2:$C$11) | C10: =ISTEXT(A10) | D10: =LEN(A10) | E10: =_xlfn.UNICODE(RIGHT(A10)) | F10: {=_xlfn.XLOOKUP(TRIM(SUBSTITUTE(A10,_xlfn.UNICHAR(160)," ")),TRIM(SUBSTITUTE(Invoices!$A$2:$A$11,_xlfn.UNICHAR(160)," ")),Invoices!$C$2:$C$11,"Not found")} | G10: 2045.9
A11: 10489 | B11: =_xlfn.XLOOKUP(A11,Invoices!$A$2:$A$11,Invoices!$C$2:$C$11) | C11: =ISTEXT(A11) | D11: =LEN(A11) | E11: =_xlfn.UNICODE(RIGHT(A11)) | F11: {=_xlfn.XLOOKUP(TRIM(SUBSTITUTE(A11,_xlfn.UNICHAR(160)," ")),TRIM(SUBSTITUTE(Invoices!$A$2:$A$11,_xlfn.UNICHAR(160)," ")),Invoices!$C$2:$C$11,"Not found")} | G11: 1333.33
